BEGIN:VCALENDAR
VERSION:2.0
PRODID:-//Oecumenische Basisgemeente Apeldoorn - ECPv6.11.1//NONSGML v1.0//EN
CALSCALE:GREGORIAN
METHOD:PUBLISH
X-WR-CALNAME:Oecumenische Basisgemeente Apeldoorn
X-ORIGINAL-URL:https://oecumenische-basisgemeente-apeldoorn.nl
X-WR-CALDESC:Evenementen voor Oecumenische Basisgemeente Apeldoorn
REFRESH-INTERVAL;VALUE=DURATION:PT1H
X-Robots-Tag:noindex
X-PUBLISHED-TTL:PT1H
BEGIN:VTIMEZONE
TZID:Europe/Amsterdam
BEGIN:DAYLIGHT
TZOFFSETFROM:+0100
TZOFFSETTO:+0200
TZNAME:CEST
DTSTART:20250330T010000
END:DAYLIGHT
BEGIN:STANDARD
TZOFFSETFROM:+0200
TZOFFSETTO:+0100
TZNAME:CET
DTSTART:20251026T010000
END:STANDARD
END:VTIMEZONE
BEGIN:VEVENT
DTSTART;TZID=Europe/Amsterdam:20251224T200000
DTEND;TZID=Europe/Amsterdam:20251224T210000
DTSTAMP:20260424T082608
CREATED:20250529T202203Z
LAST-MODIFIED:20251119T210856Z
UID:4461-1766606400-1766610000@oecumenische-basisgemeente-apeldoorn.nl
SUMMARY:Viering 24 december 2025
DESCRIPTION:Thema: Het verhaal gaat
URL:https://oecumenische-basisgemeente-apeldoorn.nl/event/viering-2/
LOCATION:Regentessekerk\, Regentesselaan 14B\, Apeldoorn\, 7316 AD
CATEGORIES:Openbare bijeenkomsten
END:VEVENT
END:VCALENDAR